BEGIN:VCALENDAR
VERSION:2.0
PRODID:-//BiBi klimaneutral - ECPv6.15.20//NONSGML v1.0//EN
CALSCALE:GREGORIAN
METHOD:PUBLISH
X-ORIGINAL-URL:https://www.bibi-klimaneutral.de
X-WR-CALDESC:Veranstaltungen für BiBi klimaneutral
REFRESH-INTERVAL;VALUE=DURATION:PT1H
X-Robots-Tag:noindex
X-PUBLISHED-TTL:PT1H
BEGIN:VTIMEZONE
TZID:Europe/Berlin
BEGIN:DAYLIGHT
TZOFFSETFROM:+0100
TZOFFSETTO:+0200
TZNAME:CEST
DTSTART:20210328T010000
END:DAYLIGHT
BEGIN:STANDARD
TZOFFSETFROM:+0200
TZOFFSETTO:+0100
TZNAME:CET
DTSTART:20211031T010000
END:STANDARD
BEGIN:DAYLIGHT
TZOFFSETFROM:+0100
TZOFFSETTO:+0200
TZNAME:CEST
DTSTART:20220327T010000
END:DAYLIGHT
BEGIN:STANDARD
TZOFFSETFROM:+0200
TZOFFSETTO:+0100
TZNAME:CET
DTSTART:20221030T010000
END:STANDARD
BEGIN:DAYLIGHT
TZOFFSETFROM:+0100
TZOFFSETTO:+0200
TZNAME:CEST
DTSTART:20230326T010000
END:DAYLIGHT
BEGIN:STANDARD
TZOFFSETFROM:+0200
TZOFFSETTO:+0100
TZNAME:CET
DTSTART:20231029T010000
END:STANDARD
END:VTIMEZONE
BEGIN:VEVENT
DTSTART;TZID=Europe/Berlin:20220815T213000
DTEND;TZID=Europe/Berlin:20220815T213000
DTSTAMP:20260424T101425
CREATED:20220814T104820Z
LAST-MODIFIED:20220814T104820Z
UID:433-1660599000-1660599000@www.bibi-klimaneutral.de
SUMMARY:BiBi-klimaneutral Filmnacht - Openair Kino Bietigheim-Bissingen
DESCRIPTION:Wir präsentieren „Wer wir waren“ im Openair Kino Bietigheim-Bissingen \nEinlass: 19:00 Uhr \nStart: 21:30 Uhr \n \nWie soll unsere Zukunft aussehen? Welche Themen werden uns deshalb in der Gegenwart beschäftigen? Was werden zukünftige Generationen über uns denken\, wenn wir bereits Geschichte sind? Diese dringenden philosophisch\, politisch und gesellschaftlich relevanten Fragen gehen uns alle an. Der Autor und Regisseur Marc Bauder geht diesen Fragen in seinem inspirierenden und zukunftsgewandten Dokumentarfilm WER WIR WAREN nach. WER WIR WAREN ist inspiriert von dem gleichnamigen Zukunftsessay des Publizisten und Moderators Roger Willemsen (1955 – 2016). Sechs namhafte Wissenschaftler*innen richten einen hoffnungsvollen Blick auf unsere Zukunft. WER WIR WAREN ist ein intensives Treffen mit bedeutenden Denker*innen unserer Zeit: Alexander Gerst (Astronaut)\, Dennis Snower (Ökonom)\, Matthieu Ricard (Molekularbiologe und Mönch)\, Sylvia Earle (Ozeanologin)\, Felwine Sarr (Ökonom\, Soziologe und Philosoph) und Janina Loh (Philosophin und kritische Posthumanistin). Die Denker*innen und Wissenschaftler*innen reflektieren die Gegenwart\, blicken in die Zukunft und bieten Lösungsvorschläge. Bauder begleitet seine Gesprächspartner*innen in die Tiefen des Ozeans\, über das Dach der Welt\, bis in die Weiten des Weltraums und beleuchtet dabei die unglaublichen Fähigkeiten des menschlichen Gehirns\, einen globalen Wirtschaftsgipfel\, das Erbe der Kolonialisierung und die Gefühle eines Roboters.
URL:https://www.bibi-klimaneutral.de/events/bibi-klimaneutral-filmnacht-openair-kino-bietigheim-bissingen/
LOCATION:Schule im Aurain\, Im Aurain 3\, Bietigheim-Bissingen\, 74321
END:VEVENT
END:VCALENDAR