BEGIN:VCALENDAR
VERSION:2.0
PRODID:-//BiBi klimaneutral - ECPv6.15.20//NONSGML v1.0//EN
CALSCALE:GREGORIAN
METHOD:PUBLISH
X-WR-CALNAME:BiBi klimaneutral
X-ORIGINAL-URL:https://www.bibi-klimaneutral.de
X-WR-CALDESC:Veranstaltungen für BiBi klimaneutral
REFRESH-INTERVAL;VALUE=DURATION:PT1H
X-Robots-Tag:noindex
X-PUBLISHED-TTL:PT1H
BEGIN:VTIMEZONE
TZID:Europe/Berlin
BEGIN:DAYLIGHT
TZOFFSETFROM:+0100
TZOFFSETTO:+0200
TZNAME:CEST
DTSTART:20210328T010000
END:DAYLIGHT
BEGIN:STANDARD
TZOFFSETFROM:+0200
TZOFFSETTO:+0100
TZNAME:CET
DTSTART:20211031T010000
END:STANDARD
BEGIN:DAYLIGHT
TZOFFSETFROM:+0100
TZOFFSETTO:+0200
TZNAME:CEST
DTSTART:20220327T010000
END:DAYLIGHT
BEGIN:STANDARD
TZOFFSETFROM:+0200
TZOFFSETTO:+0100
TZNAME:CET
DTSTART:20221030T010000
END:STANDARD
BEGIN:DAYLIGHT
TZOFFSETFROM:+0100
TZOFFSETTO:+0200
TZNAME:CEST
DTSTART:20230326T010000
END:DAYLIGHT
BEGIN:STANDARD
TZOFFSETFROM:+0200
TZOFFSETTO:+0100
TZNAME:CET
DTSTART:20231029T010000
END:STANDARD
END:VTIMEZONE
BEGIN:VEVENT
DTSTART;TZID=Europe/Berlin:20220816T213000
DTEND;TZID=Europe/Berlin:20220816T213000
DTSTAMP:20260424T100832
CREATED:20220814T105519Z
LAST-MODIFIED:20220814T105519Z
UID:444-1660685400-1660685400@www.bibi-klimaneutral.de
SUMMARY:Stand beim Open Air Kino
DESCRIPTION:Heute zeigt das Open Air Kino Bietigheim-Bissingen \n\n\n„Monsieur Claude und sein großes Fest“\nEinlass: 19:00 Uhr \nStart: 21:30 Uhr \nWir sind mit einem Stand dabei. \n \n\n\nMonsieur Claudes Spaziergänge durch sein Heimatstädtchen sind auch nicht mehr das\, was sie mal waren. Er und seine Frau Marie sind seit den multikulturellen Hochzeiten ihrer vier Töchter zwar gestählte Profis im Anzapfen tiefster Toleranzreserven\, doch die sind allmählich aufgebraucht. Denn die ungeliebten Schwiegersöhne sind jetzt auch noch ihre Nachbarn! Deren Gezänk über Äpfel\, die auf Petersilie fallen\, das jüdische Zuckerfest\, die arabische Grillparty und die Vernissagen der Eingeweide-Malerei seiner Tochter Segolène entlocken Monsieur Claude ungeahnte Fähigkeiten in den Disziplinen Durchatmen\, Augenbrauen-Hochziehen und plötzliches Verschwinden. Indes fragt sich Marie\, wie es eigentlich um ihre Ehe bestellt ist. Denn ihr 40. Hochzeitstag steht bevor und auch die reife Liebe will beschworen sein. Claude verspricht ein romantisches Abendessen à la francaise und ahnt nicht\, dass die Töchter still und heimlich sein persönliches Armageddon planen: eine XXL-Familienfeier mit allen Schwiegereltern aus der ganzen Welt\, bei der Claude und Marie ihr Eheversprechen erneuern sollen. Während die Töchter inklusionssensible Hochzeitspläne schmieden\, zeichnet sich am Horizont ein Massaker der interkulturellen Gehässigkeiten ab\, das selbst Monsieur Claudes Erregungsskurve in den Schatten stellt. Was folgt ist ein rasantes Säbelrasseln familiärer Krisenfälle zwischen verbotenen Drinks\, liebestollen Kunsthändlern und der Diskriminierung einer Jurte. Monsieur Claude\, der Meister der formvollendeten Zerknirschung\, ist zurück! Keiner beherrscht die Kunst der gerümpften Nase so unterhaltsam wie er: Christian Clavier brilliert in seinem langerwarteten neuen Leinwandabenteuer in der Königsklasse interkultureller Diplomatie: dem Großfamilienfest. MONSIEUR CLAUDE UND SEIN GROSSES FEST ist genau das: ein Fest der Situationskomik\, voller Esprit und Dialogwitz\, eine Kinokomödie\, wie sie sein muss – mitreißend\, sympathisch und vor allem extrem witzig.
URL:https://www.bibi-klimaneutral.de/events/stand-beim-open-air-kino/
LOCATION:Schule im Aurain\, Im Aurain 3\, Bietigheim-Bissingen\, 74321
END:VEVENT
END:VCALENDAR