BEGIN:VCALENDAR
VERSION:2.0
PRODID:-//BiBi klimaneutral - ECPv6.15.20//NONSGML v1.0//EN
CALSCALE:GREGORIAN
METHOD:PUBLISH
X-ORIGINAL-URL:https://www.bibi-klimaneutral.de
X-WR-CALDESC:Veranstaltungen für BiBi klimaneutral
REFRESH-INTERVAL;VALUE=DURATION:PT1H
X-Robots-Tag:noindex
X-PUBLISHED-TTL:PT1H
BEGIN:VTIMEZONE
TZID:Europe/Berlin
BEGIN:DAYLIGHT
TZOFFSETFROM:+0100
TZOFFSETTO:+0200
TZNAME:CEST
DTSTART:20210328T010000
END:DAYLIGHT
BEGIN:STANDARD
TZOFFSETFROM:+0200
TZOFFSETTO:+0100
TZNAME:CET
DTSTART:20211031T010000
END:STANDARD
BEGIN:DAYLIGHT
TZOFFSETFROM:+0100
TZOFFSETTO:+0200
TZNAME:CEST
DTSTART:20220327T010000
END:DAYLIGHT
BEGIN:STANDARD
TZOFFSETFROM:+0200
TZOFFSETTO:+0100
TZNAME:CET
DTSTART:20221030T010000
END:STANDARD
BEGIN:DAYLIGHT
TZOFFSETFROM:+0100
TZOFFSETTO:+0200
TZNAME:CEST
DTSTART:20230326T010000
END:DAYLIGHT
BEGIN:STANDARD
TZOFFSETFROM:+0200
TZOFFSETTO:+0100
TZNAME:CET
DTSTART:20231029T010000
END:STANDARD
END:VTIMEZONE
BEGIN:VEVENT
DTSTART;TZID=Europe/Berlin:20221024T180000
DTEND;TZID=Europe/Berlin:20221024T190000
DTSTAMP:20260424T065633
CREATED:20221013T095543Z
LAST-MODIFIED:20221013T095543Z
UID:598-1666634400-1666638000@www.bibi-klimaneutral.de
SUMMARY:Runder Tisch - Nachhaltige Stadtentwicklung und Zukunftsvisionen
DESCRIPTION:Circa 2900 Unterschriften haben wir abgegeben\, um zu zeigen\, das die Bürger*innen aus Bietigheim-Bissingen dazu bereit sind\, Bietigheim-Bissingen bis 2035 klimaneutral zu gestalten. Mit M.Sc. Jan Werneke\, Stadtplaner an der Universität Kassel und Simon Mohn von Reinventing Society\, werden wir die Frage diskutieren\, wie ein klimaneutrales Bietigheim-Bissingen aussehen kann. \nWann? Montag\, den 24.10.2022 um 18 Uhr\nWo? Via Zoom. Schreibt uns gerne für den Link oder meldet euch für unseren Newsletter auf der Website an. Dafür könnt ihr uns über unser Kontaktformular schreiben. \nWir freuen uns auf spannende Ideen und Diskussionen. \nBitte aktiviere JavaScript in deinem Browser\, um dieses Formular fertigzustellen.Name *VornameNachnameTelefonnummerEmail *Deine Nachricht an uns: *Abschicken und mitmachen 😉
URL:https://www.bibi-klimaneutral.de/events/runder-tisch-nachhaltige-stadtentwicklung-und-zukunftsvisionen/
LOCATION:Zoom
ATTACH;FMTTYPE=image/jpeg:https://www.bibi-klimaneutral.de/wp-content/uploads/2022/10/WhatsApp-Image-2022-10-11-at-10.44.42.jpeg
ORGANIZER;CN="Bietigheim-Bissingen klimaneutral":MAILTO:info@bibi-klimaneutral.de
END:VEVENT
END:VCALENDAR