BEGIN:VCALENDAR
VERSION:2.0
PRODID:-//BiBi klimaneutral - ECPv6.15.20//NONSGML v1.0//EN
CALSCALE:GREGORIAN
METHOD:PUBLISH
X-WR-CALNAME:BiBi klimaneutral
X-ORIGINAL-URL:https://www.bibi-klimaneutral.de
X-WR-CALDESC:Veranstaltungen für BiBi klimaneutral
REFRESH-INTERVAL;VALUE=DURATION:PT1H
X-Robots-Tag:noindex
X-PUBLISHED-TTL:PT1H
BEGIN:VTIMEZONE
TZID:Europe/Berlin
BEGIN:DAYLIGHT
TZOFFSETFROM:+0100
TZOFFSETTO:+0200
TZNAME:CEST
DTSTART:20210328T010000
END:DAYLIGHT
BEGIN:STANDARD
TZOFFSETFROM:+0200
TZOFFSETTO:+0100
TZNAME:CET
DTSTART:20211031T010000
END:STANDARD
BEGIN:DAYLIGHT
TZOFFSETFROM:+0100
TZOFFSETTO:+0200
TZNAME:CEST
DTSTART:20220327T010000
END:DAYLIGHT
BEGIN:STANDARD
TZOFFSETFROM:+0200
TZOFFSETTO:+0100
TZNAME:CET
DTSTART:20221030T010000
END:STANDARD
BEGIN:DAYLIGHT
TZOFFSETFROM:+0100
TZOFFSETTO:+0200
TZNAME:CEST
DTSTART:20230326T010000
END:DAYLIGHT
BEGIN:STANDARD
TZOFFSETFROM:+0200
TZOFFSETTO:+0100
TZNAME:CET
DTSTART:20231029T010000
END:STANDARD
END:VTIMEZONE
BEGIN:VEVENT
DTSTART;TZID=Europe/Berlin:20221025T180000
DTEND;TZID=Europe/Berlin:20221025T190000
DTSTAMP:20260424T065124
CREATED:20221013T143815Z
LAST-MODIFIED:20221013T143815Z
UID:604-1666720800-1666724400@www.bibi-klimaneutral.de
SUMMARY:Anhörung zum Bürgerbegehren in der Gemeinderatssitzung
DESCRIPTION:Die Stadtverwaltung Bietigheim-Bissingen hat die ca. 2900 abgegebenen Unterschriften geprüft und festgestellt\, dass mindestens 7% der wahlberechtigten Einwohner:innen Bietigheim-Bissingens unser Bürgerbegehren unterschrieben haben. \nUnsere Vertrauenspersonen Cian Haensch und Julian Schreder wurden zu einer Anhörung zum Bürgerbegehren in die öffentliche Gemeinderatssitzung am 25.10.2022 im Kronenzentrum eingeladen. Dort werden wir unser Bürgerbegehren vorstellen und uns den Fragen der Stadträt:innen stellen. \nWir landen alle Interessierten ein mit uns die Sitzung zu besuchen.
URL:https://www.bibi-klimaneutral.de/events/anhoerung-zum-buergerbegehren-in-der-gemeinderatssitzung/
LOCATION:Kronenzentrum\, Mühlwiesenstraße 6\, Bietigheim-Bissingen\, 74321\, Deutschland
END:VEVENT
END:VCALENDAR