BEGIN:VCALENDAR
VERSION:2.0
PRODID:-//BiBi klimaneutral - ECPv6.15.20//NONSGML v1.0//EN
CALSCALE:GREGORIAN
METHOD:PUBLISH
X-WR-CALNAME:BiBi klimaneutral
X-ORIGINAL-URL:https://www.bibi-klimaneutral.de
X-WR-CALDESC:Veranstaltungen für BiBi klimaneutral
REFRESH-INTERVAL;VALUE=DURATION:PT1H
X-Robots-Tag:noindex
X-PUBLISHED-TTL:PT1H
BEGIN:VTIMEZONE
TZID:Europe/Berlin
BEGIN:DAYLIGHT
TZOFFSETFROM:+0100
TZOFFSETTO:+0200
TZNAME:CEST
DTSTART:20220327T010000
END:DAYLIGHT
BEGIN:STANDARD
TZOFFSETFROM:+0200
TZOFFSETTO:+0100
TZNAME:CET
DTSTART:20221030T010000
END:STANDARD
BEGIN:DAYLIGHT
TZOFFSETFROM:+0100
TZOFFSETTO:+0200
TZNAME:CEST
DTSTART:20230326T010000
END:DAYLIGHT
BEGIN:STANDARD
TZOFFSETFROM:+0200
TZOFFSETTO:+0100
TZNAME:CET
DTSTART:20231029T010000
END:STANDARD
BEGIN:DAYLIGHT
TZOFFSETFROM:+0100
TZOFFSETTO:+0200
TZNAME:CEST
DTSTART:20240331T010000
END:DAYLIGHT
BEGIN:STANDARD
TZOFFSETFROM:+0200
TZOFFSETTO:+0100
TZNAME:CET
DTSTART:20241027T010000
END:STANDARD
END:VTIMEZONE
BEGIN:VEVENT
DTSTART;TZID=Europe/Berlin:20230218T100000
DTEND;TZID=Europe/Berlin:20230218T140000
DTSTAMP:20260424T002246
CREATED:20230210T092514Z
LAST-MODIFIED:20230210T092514Z
UID:688-1676714400-1676728800@www.bibi-klimaneutral.de
SUMMARY:Planungs- und Strategiemeeting
DESCRIPTION:Wir und die Bürger:innen aus Bietigheim-Bissingen haben mit unserem erfolgreichen Bürgerbegehren letzten Herbst erreicht\, dass Bietigheim-Bissingen bis 2035 klimaneutral werden will. Wir wollen die Stadt und den Gemeinderat konstruktiv dabei begleiten\, den einstimmig im Dezember beschlossenen Klimaaktionsplan für Bietigheim-Bissingen in die Tat umzusetzen. Außerdem will die Initiative mit Hilfe verschiedener Aktionsformen bei der Bürgerschaft für mehr klimabewusstes Handeln werben. \nDeshalb suchen wir Bürgerinnen und Bürger\, die sich hierbei einbringen wollen und laden Sie zum Strategie- und Planungstreffen ein. Es findet am Samstag\, den 18. Februar 2023\, 10 bis 14 Uhr\, im Beruflichen Schulzentrum\, Fischerpfad 10\, statt. Eine Anmeldung zur virtuellen Teilnahme ist über unser Kontaktformular möglich.
URL:https://www.bibi-klimaneutral.de/events/planungs-und-strategiemeeting/
LOCATION:Berufliches Schulzentrum\, Fischerpfad 10\, Bietigheim-Bissingen\, Baden-Württemberg\, 74321\, Deutschland
ORGANIZER;CN="Bietigheim-Bissingen klimaneutral":MAILTO:info@bibi-klimaneutral.de
END:VEVENT
END:VCALENDAR