BEGIN:VCALENDAR
VERSION:2.0
PRODID:-//BiBi klimaneutral - ECPv6.15.20//NONSGML v1.0//EN
CALSCALE:GREGORIAN
METHOD:PUBLISH
X-ORIGINAL-URL:https://www.bibi-klimaneutral.de
X-WR-CALDESC:Veranstaltungen für BiBi klimaneutral
REFRESH-INTERVAL;VALUE=DURATION:PT1H
X-Robots-Tag:noindex
X-PUBLISHED-TTL:PT1H
BEGIN:VTIMEZONE
TZID:Europe/Berlin
BEGIN:DAYLIGHT
TZOFFSETFROM:+0100
TZOFFSETTO:+0200
TZNAME:CEST
DTSTART:20230326T010000
END:DAYLIGHT
BEGIN:STANDARD
TZOFFSETFROM:+0200
TZOFFSETTO:+0100
TZNAME:CET
DTSTART:20231029T010000
END:STANDARD
BEGIN:DAYLIGHT
TZOFFSETFROM:+0100
TZOFFSETTO:+0200
TZNAME:CEST
DTSTART:20240331T010000
END:DAYLIGHT
BEGIN:STANDARD
TZOFFSETFROM:+0200
TZOFFSETTO:+0100
TZNAME:CET
DTSTART:20241027T010000
END:STANDARD
BEGIN:DAYLIGHT
TZOFFSETFROM:+0100
TZOFFSETTO:+0200
TZNAME:CEST
DTSTART:20250330T010000
END:DAYLIGHT
BEGIN:STANDARD
TZOFFSETFROM:+0200
TZOFFSETTO:+0100
TZNAME:CET
DTSTART:20251026T010000
END:STANDARD
END:VTIMEZONE
BEGIN:VEVENT
DTSTART;TZID=Europe/Berlin:20240724T200000
DTEND;TZID=Europe/Berlin:20240724T213000
DTSTAMP:20260422T214131
CREATED:20240716T080039Z
LAST-MODIFIED:20240716T080039Z
UID:868-1721851200-1721856600@www.bibi-klimaneutral.de
SUMMARY:Vortragsreihe von BiBi klimaneutral - Unterschätzter Lebensraum
DESCRIPTION:Unterschätzter Lebensraum –\nDas Potenzial für Naturvielfalt in der Stadt\nDie Stadt hat nicht nur bei Menschen Hochkonjunktur. Auch viele Pflanzen und Wildtiere\nfühlen sich hier wohl und finden mitten unter uns ihre ganz besondere Nische. Mit\nunterschiedlichsten Aktivitäten können wir das noch unterstützen und so dem Verlust der\nBiodiversität entgegenwirken. Wie wichtig das ist\, zeigt der letzte Bericht des\nWeltbiodiversitätsrats 2019. Mindestens 1 Mio. Pflanzen- und Tierarten sind vom\nAussterben bedroht. Das hat erhebliche Auswirkungen auf die Ökosysteme und die Lebens-\nbedingungen der Menschheit. \n\nUnser Gast Dr. Stefan Kress\, Biologe und Vorstandsmitglied beim NABU Stuttgart\, zeigt in\nseinem Vortrag wie die Tier- und Pflanzenwelt im städtischen Raum erhalten und gefördert\nwerden kann. Dabei reichen oft schon kleine Schritte\, um bedrohten Arten in der Stadt ein\nneues Zuhause bieten zu können. Im Vorfeld zum Vortrag wird ein geführter Spaziergang\nauf dem Lehrpfad „Insekten und Biodiversität“ angeboten. \n  \nGeführter Spaziergang auf dem Lehrpfad „Insekten und Biodiversität“\n\nTreffpunkt: Mittwoch\, 24.07.2024\, 18:00 Uhr am Eingang des Berufliche Schulzentrums\,\nFischerpfad 10-12 in Bietigheim-Bissingen \n\nDr. Stefan Kress begleitet uns bei einem Spaziergang auf dem von der Stadt Bietigheim-\nBissingen angelegten Lehrpfad „Insekten und Biodiversität“ und wird zu den Themen der\nLehrtafeln weitere Erläuterungen geben und Fragen beantworten.\nDer Spaziergang dauert 60 bis max. 90 Minuten. Auch dazu eine herzliche Einladung! \n\nDer Eintritt für beide Veranstaltungen ist frei.
URL:https://www.bibi-klimaneutral.de/events/vortragsreihe-von-bibi-klimaneutral-unterschaetzter-lebensraum/
LOCATION:Berufliches Schulzentrum\, Fischerpfad 10\, Bietigheim-Bissingen\, Baden-Württemberg\, 74321\, Deutschland
CATEGORIES:Vortragsreihe
ORGANIZER;CN="Bietigheim-Bissingen klimaneutral":MAILTO:info@bibi-klimaneutral.de
END:VEVENT
END:VCALENDAR