BEGIN:VCALENDAR
VERSION:2.0
PRODID:-//BiBi klimaneutral - ECPv6.15.20//NONSGML v1.0//EN
CALSCALE:GREGORIAN
METHOD:PUBLISH
X-WR-CALNAME:BiBi klimaneutral
X-ORIGINAL-URL:https://www.bibi-klimaneutral.de
X-WR-CALDESC:Veranstaltungen für BiBi klimaneutral
REFRESH-INTERVAL;VALUE=DURATION:PT1H
X-Robots-Tag:noindex
X-PUBLISHED-TTL:PT1H
BEGIN:VTIMEZONE
TZID:Europe/Berlin
BEGIN:DAYLIGHT
TZOFFSETFROM:+0100
TZOFFSETTO:+0200
TZNAME:CEST
DTSTART:20210328T010000
END:DAYLIGHT
BEGIN:STANDARD
TZOFFSETFROM:+0200
TZOFFSETTO:+0100
TZNAME:CET
DTSTART:20211031T010000
END:STANDARD
BEGIN:DAYLIGHT
TZOFFSETFROM:+0100
TZOFFSETTO:+0200
TZNAME:CEST
DTSTART:20220327T010000
END:DAYLIGHT
BEGIN:STANDARD
TZOFFSETFROM:+0200
TZOFFSETTO:+0100
TZNAME:CET
DTSTART:20221030T010000
END:STANDARD
BEGIN:DAYLIGHT
TZOFFSETFROM:+0100
TZOFFSETTO:+0200
TZNAME:CEST
DTSTART:20230326T010000
END:DAYLIGHT
BEGIN:STANDARD
TZOFFSETFROM:+0200
TZOFFSETTO:+0100
TZNAME:CET
DTSTART:20231029T010000
END:STANDARD
END:VTIMEZONE
BEGIN:VEVENT
DTSTART;TZID=Europe/Berlin:20220404T203000
DTEND;TZID=Europe/Berlin:20220404T213000
DTSTAMP:20260424T150432
CREATED:20220126T072348Z
LAST-MODIFIED:20220126T072348Z
UID:249-1649104200-1649107800@www.bibi-klimaneutral.de
SUMMARY:Team-Meeting
DESCRIPTION:
URL:https://www.bibi-klimaneutral.de/events/team-meeting-11/
CATEGORIES:Team-Meeting
ORGANIZER;CN="Bietigheim-Bissingen klimaneutral":MAILTO:info@bibi-klimaneutral.de
END:VEVENT
BEGIN:VEVENT
DTSTART;TZID=Europe/Berlin:20220413T203000
DTEND;TZID=Europe/Berlin:20220413T213000
DTSTAMP:20260424T150432
CREATED:20220126T072434Z
LAST-MODIFIED:20220126T072434Z
UID:251-1649881800-1649885400@www.bibi-klimaneutral.de
SUMMARY:Team-Meeting
DESCRIPTION:
URL:https://www.bibi-klimaneutral.de/events/team-meeting-12/
CATEGORIES:Team-Meeting
ORGANIZER;CN="Bietigheim-Bissingen klimaneutral":MAILTO:info@bibi-klimaneutral.de
END:VEVENT
BEGIN:VEVENT
DTSTART;TZID=Europe/Berlin:20220418T203000
DTEND;TZID=Europe/Berlin:20220418T210000
DTSTAMP:20260424T150432
CREATED:20220126T072701Z
LAST-MODIFIED:20220126T072701Z
UID:253-1650313800-1650315600@www.bibi-klimaneutral.de
SUMMARY:Team-Meeting
DESCRIPTION:
URL:https://www.bibi-klimaneutral.de/events/team-meeting-13/
CATEGORIES:Team-Meeting
ORGANIZER;CN="Bietigheim-Bissingen klimaneutral":MAILTO:info@bibi-klimaneutral.de
END:VEVENT
BEGIN:VEVENT
DTSTART;TZID=Europe/Berlin:20220427T203000
DTEND;TZID=Europe/Berlin:20220427T213000
DTSTAMP:20260424T150432
CREATED:20220126T072749Z
LAST-MODIFIED:20220126T072749Z
UID:255-1651091400-1651095000@www.bibi-klimaneutral.de
SUMMARY:Team-Meeting
DESCRIPTION:
URL:https://www.bibi-klimaneutral.de/events/team-meeting-14/
CATEGORIES:Team-Meeting
ORGANIZER;CN="Bietigheim-Bissingen klimaneutral":MAILTO:info@bibi-klimaneutral.de
END:VEVENT
END:VCALENDAR