BEGIN:VCALENDAR
VERSION:2.0
PRODID:-//BiBi klimaneutral - ECPv6.15.20//NONSGML v1.0//EN
CALSCALE:GREGORIAN
METHOD:PUBLISH
X-WR-CALNAME:BiBi klimaneutral
X-ORIGINAL-URL:https://www.bibi-klimaneutral.de
X-WR-CALDESC:Veranstaltungen für BiBi klimaneutral
REFRESH-INTERVAL;VALUE=DURATION:PT1H
X-Robots-Tag:noindex
X-PUBLISHED-TTL:PT1H
BEGIN:VTIMEZONE
TZID:Europe/Berlin
BEGIN:DAYLIGHT
TZOFFSETFROM:+0100
TZOFFSETTO:+0200
TZNAME:CEST
DTSTART:20220327T010000
END:DAYLIGHT
BEGIN:STANDARD
TZOFFSETFROM:+0200
TZOFFSETTO:+0100
TZNAME:CET
DTSTART:20221030T010000
END:STANDARD
BEGIN:DAYLIGHT
TZOFFSETFROM:+0100
TZOFFSETTO:+0200
TZNAME:CEST
DTSTART:20230326T010000
END:DAYLIGHT
BEGIN:STANDARD
TZOFFSETFROM:+0200
TZOFFSETTO:+0100
TZNAME:CET
DTSTART:20231029T010000
END:STANDARD
BEGIN:DAYLIGHT
TZOFFSETFROM:+0100
TZOFFSETTO:+0200
TZNAME:CEST
DTSTART:20240331T010000
END:DAYLIGHT
BEGIN:STANDARD
TZOFFSETFROM:+0200
TZOFFSETTO:+0100
TZNAME:CET
DTSTART:20241027T010000
END:STANDARD
END:VTIMEZONE
BEGIN:VEVENT
DTSTART;TZID=Europe/Berlin:20231025T193000
DTEND;TZID=Europe/Berlin:20231025T210000
DTSTAMP:20260423T105600
CREATED:20231010T084631Z
LAST-MODIFIED:20231010T084631Z
UID:728-1698262200-1698267600@www.bibi-klimaneutral.de
SUMMARY:Vortragsreihe von BiBi klimaneutral - Energiewende im privaten Bereich
DESCRIPTION:Energiewende im privaten Bereich:\nErfahrungen\, Chancen und Herausforderungen\n\n\n\n\nUm klimaneutral zu werden\, bedarf es auch der Transformation der privaten Haushalte weg von fossilen Energieträgern hin zu CO2-armen Alternativen. Mit einem Erfahrungsbericht aus dem Umbau eines vermieteten Reihenhauses wollen wir die technischen\, aber auch wirtschaftlichen Möglichkeiten aufzeigen\, aktuelle Rahmenbedingungen und zukünftige Trends diskutieren. \nDabei wird deutlich\, wie die Themen Lastmanagement und Energiespeicherung dazu beitragen\, die Kosten für jeden von uns zu senken und die Energiesicherheit auch bei schwankenden Sonnenstunden und Windstärken in den Griff zu bekommen. \n\n\n\n\nReferent ist Steffen Becker\, Professor für Informatik an der Universität Stuttgart und aktiv bei Bietigheim-Bissingen klimaneutral und Scientists for Future. \n  \n\n\n\n\n\n\n\n\nVortrag Energiewende 25.10.2023-1
URL:https://www.bibi-klimaneutral.de/events/vortragsreihe-von-bibi-klimaneutral-energiewende-im-privaten-bereich/
LOCATION:Kulturraum Rommelmühle e.V.\, Flößerstraße 56/1\, Bietigheim-Bissingen\, Baden-Württemberg\, 74321\, Deutschland
ORGANIZER;CN="Bietigheim-Bissingen klimaneutral":MAILTO:info@bibi-klimaneutral.de
END:VEVENT
END:VCALENDAR