BEGIN:VCALENDAR
VERSION:2.0
PRODID:-//BiBi klimaneutral - ECPv6.15.20//NONSGML v1.0//EN
CALSCALE:GREGORIAN
METHOD:PUBLISH
X-ORIGINAL-URL:https://www.bibi-klimaneutral.de
X-WR-CALDESC:Veranstaltungen für BiBi klimaneutral
REFRESH-INTERVAL;VALUE=DURATION:PT1H
X-Robots-Tag:noindex
X-PUBLISHED-TTL:PT1H
BEGIN:VTIMEZONE
TZID:Europe/Berlin
BEGIN:DAYLIGHT
TZOFFSETFROM:+0100
TZOFFSETTO:+0200
TZNAME:CEST
DTSTART:20230326T010000
END:DAYLIGHT
BEGIN:STANDARD
TZOFFSETFROM:+0200
TZOFFSETTO:+0100
TZNAME:CET
DTSTART:20231029T010000
END:STANDARD
BEGIN:DAYLIGHT
TZOFFSETFROM:+0100
TZOFFSETTO:+0200
TZNAME:CEST
DTSTART:20240331T010000
END:DAYLIGHT
BEGIN:STANDARD
TZOFFSETFROM:+0200
TZOFFSETTO:+0100
TZNAME:CET
DTSTART:20241027T010000
END:STANDARD
BEGIN:DAYLIGHT
TZOFFSETFROM:+0100
TZOFFSETTO:+0200
TZNAME:CEST
DTSTART:20250330T010000
END:DAYLIGHT
BEGIN:STANDARD
TZOFFSETFROM:+0200
TZOFFSETTO:+0100
TZNAME:CET
DTSTART:20251026T010000
END:STANDARD
END:VTIMEZONE
BEGIN:VEVENT
DTSTART;TZID=Europe/Berlin:20240124T193000
DTEND;TZID=Europe/Berlin:20240124T210000
DTSTAMP:20260423T062147
CREATED:20231026T130218Z
LAST-MODIFIED:20240108T104645Z
UID:753-1706124600-1706130000@www.bibi-klimaneutral.de
SUMMARY:Vortragsreihe von BiBi-klimaneutral - Klima und Ernährung
DESCRIPTION:Klimafreundliche Ernährung\nUnsere Ernährungsgewohnheiten und auch die Art und Weise der Landwirtschaft haben erhebliche Auswirkungen auf Umwelt\, Klima und Artenvielfalt. Laut dem Weltklimarat IPPC sind rund ein Viertel der weltweiten Treibhausgase auf das Ernährungssystem zurückzuführen. Jürgen Knieling zeigt an dem Abend auf\, wie ein Speiseplan aussieht\, der die Gesundheit des Menschen wie die des Planeten schützt. Team N – die Nachhaltigkeits-AG der Ellentalgymnasien geben praktische Anregungen zur Reduzierung von Lebensmittelverschwendung. Ein dritter Impuls kommt von Rainer Lang\, der das Thema aus globaler Perspektive betrachtet und den Zusammenhang mit Klimagerechtigkeit aufzeigt. \nNach den drei Impulsbeiträgen freuen wir uns auf den Austausch mit Ihnen. In unserer Ernährung liegt ein enormes Klimaschutzpotential und vieles davon können wir schnell anpacken! \nDie Referent:innen:  \nDr. med. Jürgen Knieling\, Ärztlicher Direktor der Klinik für Psychosomatische Medizin und Psychotherapie am RKH Krankenhaus Bietigheim und aktiv bei Bietigheim-Bissingen klimaneutral \nSarah Grau\, Lehrerin\, sowie Jugendliche der Nachhaltigkeits-AG der Ellentalgymnasien \n Rainer Lang\, Journalist mit Schwerpunkt Kirche und Entwicklungspolitik  \n  \n  \nVeranstalter ist die Gruppe Bietigheim-Bissingen klimaneutral\, die im letzten Jahr zusammen mit vielen Bürger:innen mit ihrem erfolgreichen Bürgerbegehren erreicht hat\, dass Bietigheim-Bissingen bis 2035 klimaneutral werden will. \nVortrag_Klima_und_Ernährung
URL:https://www.bibi-klimaneutral.de/events/vortragsreihe-von-bibi-klimaneutral-klima-und-ernaehrung/
LOCATION:Gemeindehaus Stadtkirche Bietigheim\, Schwätzgässle 1-3\, Bietigheim-Bissingen\, Baden-Württemberg\, 74321\, Deutschland
ORGANIZER;CN="Bietigheim-Bissingen klimaneutral":MAILTO:info@bibi-klimaneutral.de
END:VEVENT
END:VCALENDAR